BEGIN:VCALENDAR
VERSION:2.0
PRODID:-//Edgar Hilsenrath - ECPv6.15.20//NONSGML v1.0//EN
CALSCALE:GREGORIAN
METHOD:PUBLISH
X-ORIGINAL-URL:https://hilsenrath.de
X-WR-CALDESC:Veranstaltungen für Edgar Hilsenrath
REFRESH-INTERVAL;VALUE=DURATION:PT1H
X-Robots-Tag:noindex
X-PUBLISHED-TTL:PT1H
BEGIN:VTIMEZONE
TZID:Europe/Berlin
BEGIN:DAYLIGHT
TZOFFSETFROM:+0100
TZOFFSETTO:+0200
TZNAME:CEST
DTSTART:20180325T010000
END:DAYLIGHT
BEGIN:STANDARD
TZOFFSETFROM:+0200
TZOFFSETTO:+0100
TZNAME:CET
DTSTART:20181028T010000
END:STANDARD
BEGIN:DAYLIGHT
TZOFFSETFROM:+0100
TZOFFSETTO:+0200
TZNAME:CEST
DTSTART:20190331T010000
END:DAYLIGHT
BEGIN:STANDARD
TZOFFSETFROM:+0200
TZOFFSETTO:+0100
TZNAME:CET
DTSTART:20191027T010000
END:STANDARD
BEGIN:DAYLIGHT
TZOFFSETFROM:+0100
TZOFFSETTO:+0200
TZNAME:CEST
DTSTART:20200329T010000
END:DAYLIGHT
BEGIN:STANDARD
TZOFFSETFROM:+0200
TZOFFSETTO:+0100
TZNAME:CET
DTSTART:20201025T010000
END:STANDARD
END:VTIMEZONE
BEGIN:VEVENT
DTSTART;TZID=Europe/Berlin:20190722T110000
DTEND;TZID=Europe/Berlin:20190722T123000
DTSTAMP:20260425T061015
CREATED:20190716T205430Z
LAST-MODIFIED:20221129T204644Z
UID:1135-1563793200-1563798600@hilsenrath.de
SUMMARY:Theater performance of "Le Nazi et le Barbier" in Avignon
DESCRIPTION:Theater performance of Le Nazi et le Barbier by Edgar Hilsenrath in France.
URL:https://hilsenrath.de/veranstaltung/theater-performance-of-le-nazi-et-le-barbier-in-avignon-15/
LOCATION:Théâtre des Lila’s\, 8 Rue Londe (entrée Rue Rateau)\, Avignon\, 84000\, Frankreich
ATTACH;FMTTYPE=image/jpeg:https://hilsenrath.de/wp-content/uploads/2019/05/2019-07-LeNazietleBarbier-Avignon.jpg
END:VEVENT
END:VCALENDAR